BEGIN:VCALENDAR
VERSION:2.0
PRODID:-// - ECPv6.15.20//NONSGML v1.0//EN
CALSCALE:GREGORIAN
METHOD:PUBLISH
X-ORIGINAL-URL:https://sinsobre.com
X-WR-CALDESC:Eventos para 
REFRESH-INTERVAL;VALUE=DURATION:PT1H
X-Robots-Tag:noindex
X-PUBLISHED-TTL:PT1H
BEGIN:VTIMEZONE
TZID:UTC
BEGIN:STANDARD
TZOFFSETFROM:+0000
TZOFFSETTO:+0000
TZNAME:UTC
DTSTART:20220101T000000
END:STANDARD
END:VTIMEZONE
BEGIN:VTIMEZONE
TZID:America/Tijuana
BEGIN:DAYLIGHT
TZOFFSETFROM:-0800
TZOFFSETTO:-0700
TZNAME:PDT
DTSTART:20220313T100000
END:DAYLIGHT
BEGIN:STANDARD
TZOFFSETFROM:-0700
TZOFFSETTO:-0800
TZNAME:PST
DTSTART:20221106T090000
END:STANDARD
BEGIN:DAYLIGHT
TZOFFSETFROM:-0800
TZOFFSETTO:-0700
TZNAME:PDT
DTSTART:20230312T100000
END:DAYLIGHT
BEGIN:STANDARD
TZOFFSETFROM:-0700
TZOFFSETTO:-0800
TZNAME:PST
DTSTART:20231105T090000
END:STANDARD
BEGIN:DAYLIGHT
TZOFFSETFROM:-0800
TZOFFSETTO:-0700
TZNAME:PDT
DTSTART:20240310T100000
END:DAYLIGHT
BEGIN:STANDARD
TZOFFSETFROM:-0700
TZOFFSETTO:-0800
TZNAME:PST
DTSTART:20241103T090000
END:STANDARD
END:VTIMEZONE
BEGIN:VEVENT
DTSTART;TZID=UTC:20251108T180000
DTEND;TZID=UTC:20251109T000000
DTSTAMP:20260423T095549
CREATED:20250815T171147Z
LAST-MODIFIED:20250815T172506Z
UID:3712-1762624800-1762646400@sinsobre.com
SUMMARY:Asistencia: Carlos & Olivia
DESCRIPTION:Iglesia : Parroquia de Nuestra Señora del Carmen   Misa : 4:00 pm   Direccion : Carmen Ave. Guanajuato 2951 Col. Cacho\, Tijuana \n 
URL:https://sinsobre.com/event/asistencia-carlos-olivia/
LOCATION:Salón Social El Castillo\, Av. Jalisco 2718\, Col. Madero (Cacho)\, 22150 Tijuana\, B.C.\, Tijuana\, Baja Califonria\, 22150\, Mexico
CATEGORIES:Boda
END:VEVENT
BEGIN:VEVENT
DTSTART;TZID=UTC:20250719T190000
DTEND;TZID=UTC:20250720T010000
DTSTAMP:20260423T095549
CREATED:20250702T073057Z
LAST-MODIFIED:20250702T210634Z
UID:3583-1752951600-1752973200@sinsobre.com
SUMMARY:Jesús& Ailyn
DESCRIPTION:
URL:https://sinsobre.com/event/jesus-ailynn/
LOCATION:Salón y jardin de eventos Coco\, Loma Alta 510\, Campos\, 22127 Tijuana\, B.C.\, Tijuana\, Baja California\, 22127\, Mexico
CATEGORIES:XV años
ATTACH;FMTTYPE=image/jpeg:https://sinsobre.com/wp-content/uploads/2025/07/web-4.jpeg
END:VEVENT
BEGIN:VEVENT
DTSTART;TZID=UTC:20240607T190000
DTEND;TZID=UTC:20240608T000000
DTSTAMP:20260423T095549
CREATED:20240505T043817Z
LAST-MODIFIED:20240505T043817Z
UID:2755-1717786800-1717804800@sinsobre.com
SUMMARY:XV Velvet
DESCRIPTION:
URL:https://sinsobre.com/event/xv-velvet/
LOCATION:Baja Califonria
CATEGORIES:XV años
END:VEVENT
BEGIN:VEVENT
DTSTART;TZID=UTC:20240607T190000
DTEND;TZID=UTC:20240608T000000
DTSTAMP:20260423T095549
CREATED:20230527T071956Z
LAST-MODIFIED:20240506T055035Z
UID:1763-1717786800-1717804800@sinsobre.com
SUMMARY:Sweet XV  -  Velvett
DESCRIPTION:El contenido esta protegido.
URL:https://sinsobre.com/event/xv-velvett/
LOCATION:Just Java Elegance Hall\, 285 3rd Ave\, CA 91910\, United States\, Chula Vist\, California\, 91910\, Estados Unidos
CATEGORIES:XV años
END:VEVENT
BEGIN:VEVENT
DTSTART;TZID=America/Tijuana:20230806T130000
DTEND;TZID=America/Tijuana:20230806T190000
DTSTAMP:20260423T095549
CREATED:20230624T000704Z
LAST-MODIFIED:20230628T055555Z
UID:1975-1691326800-1691348400@sinsobre.com
SUMMARY:Bautizo Gaby Choza - Salon
DESCRIPTION:
URL:https://sinsobre.com/event/bautizo-gaby/
LOCATION:WOOLFY JARDIN DE EVENTOS\, Ángela Peralta 3693\, 20 de Noviembre\, 22100 Tijuana\, B.C.\, Tijuana\, Baja California\, 22100\, México
CATEGORIES:Bautizo,Cumpleaños
ATTACH;FMTTYPE=image/jpeg:https://sinsobre.com/wp-content/uploads/2023/06/Sirenita.jpg
END:VEVENT
BEGIN:VEVENT
DTSTART;TZID=UTC:20230806T093000
DTEND;TZID=UTC:20230806T103000
DTSTAMP:20260423T095549
CREATED:20230624T001448Z
LAST-MODIFIED:20230628T054835Z
UID:1982-1691314200-1691317800@sinsobre.com
SUMMARY:Bautizo Gaby Choza - Iglesia
DESCRIPTION:<<Ver Invitación>>    << Regresar>>
URL:https://sinsobre.com/event/bautizo-gabychoza/
LOCATION:Parroquia Santa Cecilia\, Guillermo Prieto 364\, Santa Cruz\, 22105 Tijuana\, B.C.\, Tijuana\, Baja California\, 22105\, México
CATEGORIES:Bautizo
END:VEVENT
BEGIN:VEVENT
DTSTART;TZID=UTC:20230225T170000
DTEND;TZID=UTC:20230225T170000
DTSTAMP:20260423T095549
CREATED:20230116T224749Z
LAST-MODIFIED:20230527T074808Z
UID:1353-1677344400-1677344400@sinsobre.com
SUMMARY:Cumpleaños  - Lu
DESCRIPTION:El contenido esta protegido.
URL:https://sinsobre.com/event/cumpleanos-lu/
LOCATION:Lu House of blues!\, DATIL 2460b\, TIJUANA\, Baja California\, 22116\, México
CATEGORIES:Cumpleaños
ORGANIZER;CN="Carla":MAILTO:usaurio@miwebsite.com
END:VEVENT
BEGIN:VEVENT
DTSTART;TZID=UTC:20230218T190000
DTEND;TZID=UTC:20230218T230000
DTSTAMP:20260423T095549
CREATED:20230209T064137Z
LAST-MODIFIED:20230527T074816Z
UID:1516-1676746800-1676761200@sinsobre.com
SUMMARY:Cumple Folazo
DESCRIPTION:El contenido esta protegido.
URL:https://sinsobre.com/event/cumple-folazo/
LOCATION:Lu House of blues!\, DATIL 2460b\, TIJUANA\, Baja California\, 22116\, México
CATEGORIES:Cumpleaños
ORGANIZER;CN="Francisco":MAILTO:avisos@sinsobre.com
END:VEVENT
BEGIN:VEVENT
DTSTART;TZID=UTC:20230211T140000
DTEND;TZID=UTC:20230211T180000
DTSTAMP:20260423T095549
CREATED:20221216T174016Z
LAST-MODIFIED:20230527T074828Z
UID:941-1676124000-1676138400@sinsobre.com
SUMMARY:♥ Cumpleaños Fer ♥
DESCRIPTION:El contenido esta protegido.
URL:https://sinsobre.com/event/%e2%99%a5-cumpleanos-fer-%e2%99%a5/
LOCATION:Barquito de papel salón\, C. Quinta Alta 5331\, Quinta Alta\, 22106 Tijuana\, B.C.\, Tijuana\, Baja California\, 22106\, México
CATEGORIES:Cumpleaños
END:VEVENT
BEGIN:VEVENT
DTSTART;TZID=UTC:20230211T120000
DTEND;TZID=UTC:20230211T133000
DTSTAMP:20260423T095549
CREATED:20221216T170403Z
LAST-MODIFIED:20221217T021859Z
UID:927-1676116800-1676122200@sinsobre.com
SUMMARY:♥ Bautizo Fer ♥
DESCRIPTION:
URL:https://sinsobre.com/event/cumple-fer/
LOCATION:Iglesia : Parroquina nuestra señora de la asunción\, Cayumito 25\, Maurilio Magallon\, Tijuana\, B.C.\, Tijuana\, Baja California\, 22000\, México
CATEGORIES:Bautizo,Cumpleaños
ATTACH;FMTTYPE=image/jpeg:https://sinsobre.com/wp-content/uploads/2022/11/Fer2.jpg
END:VEVENT
BEGIN:VEVENT
DTSTART;TZID=UTC:20230120T080000
DTEND;TZID=UTC:20230122T170000
DTSTAMP:20260423T095549
CREATED:20221217T015958Z
LAST-MODIFIED:20221217T020134Z
UID:967-1674201600-1674406800@sinsobre.com
SUMMARY:Cumpleaños  - Amanda
DESCRIPTION:
URL:https://sinsobre.com/event/cumpleanos-amanda/
LOCATION:La Ronda Salón & Jardín de Eventos\, Blvd. Padre Kino 10289\, Tijuana\, Tijuana B.C\, 22320\, México
CATEGORIES:Cumpleaños
ATTACH;FMTTYPE=image/jpeg:https://sinsobre.com/wp-content/uploads/2022/12/little-birthday-girl-charming-baby-pink-dress-sits-chair-scaled-e1678735947359.jpg
ORGANIZER;CN="Carla":MAILTO:usaurio@miwebsite.com
END:VEVENT
END:VCALENDAR